BEGIN:VCALENDAR
VERSION:2.0
PRODID:-//Aurora Lasergame Kladno - ECPv6.3.2//NONSGML v1.0//EN
CALSCALE:GREGORIAN
METHOD:PUBLISH
X-ORIGINAL-URL:https://www.aurorakladno.cz
X-WR-CALDESC:Akce na Aurora Lasergame Kladno
REFRESH-INTERVAL;VALUE=DURATION:PT1H
X-Robots-Tag:noindex
X-PUBLISHED-TTL:PT1H
BEGIN:VTIMEZONE
TZID:Europe/Prague
BEGIN:DAYLIGHT
TZOFFSETFROM:+0100
TZOFFSETTO:+0200
TZNAME:CEST
DTSTART:20240331T010000
END:DAYLIGHT
BEGIN:STANDARD
TZOFFSETFROM:+0200
TZOFFSETTO:+0100
TZNAME:CET
DTSTART:20241027T010000
END:STANDARD
END:VTIMEZONE
BEGIN:VEVENT
DTSTART;TZID=Europe/Prague:20240207T190000
DTEND;TZID=Europe/Prague:20240207T210000
DTSTAMP:20260425T123620
CREATED:20240123T091251Z
LAST-MODIFIED:20240123T091356Z
UID:12081-1707332400-1707339600@www.aurorakladno.cz
SUMMARY:Dospělácký herní večer s neomezenou lasergame
DESCRIPTION:Baví vás lasergame a hledáte další spoluhráče? Chcete hrát pravidelně a ještě ušetřit? Tak právě pro vás pořádáme dospělácké herní večery! 🎉 \nRegistrace zde\nDvě hodiny neomezeného lasergame hraní pro všechny hráče starší 15 let v pohodové atmosféře za jednu zvýhodněnou cenu. Rádi vás postupně během času provedeme od úplně základních po pokročilé typy her\, takže se nemusíte ničeho obávat ať už lasergame znáte\, nebo se chystáte teprve vyzkoušet 🙂 \nScházíme se každých 14 dní ve středu večer a je na vás\, jak často se budete chtít přidat 😊 Na vybraný termín se prosím přihlašte přes tento rychlý formulář. \nTěšíme se na vás!
URL:https://www.aurorakladno.cz/udalost/2024-02-07-dospelacky-herni-vecer-s-neomezenou-lasergame/
LOCATION:Aurora Lasergame Kladno\, Čs. armády 3235\, Kladno\, 27201\, Česká republika
CATEGORIES:Amatérští hráči,Dospělí,Zvýhodněné hraní
ATTACH;FMTTYPE=image/jpeg:https://www.aurorakladno.cz/wp-content/uploads/2023/10/20231011_event_hernivecer_generic.jpg
ORGANIZER;CN="Aurora Lasergame Kladno":MAILTO:info@aurorakladno.cz
END:VEVENT
BEGIN:VEVENT
DTSTART;TZID=Europe/Prague:20240225T170000
DTEND;TZID=Europe/Prague:20240225T200000
DTSTAMP:20260425T123620
CREATED:20230828T132258Z
LAST-MODIFIED:20230828T135421Z
UID:11739-1708880400-1708891200@www.aurorakladno.cz
SUMMARY:XP Rumble - Space Marines Duos (otevřený turnaj dvojic)
DESCRIPTION:Zveme vás na další turnaj pod hlavičkou Aurora XP Rumble\, tentokrát v taktickém módu Space Marines Duos! \nDvojice ve složení medik+zbrojíř se spolu utkají v napínavých soubojích\, kde nerozhodují jen individuální schopnosti\, ale také vzájemná souhra a komunikace mezi parťáky. \nTurnaj je určený především pro zkušenější hráče a odvážné nováčky. \n✍️ Registrace na turnaj zde\n\nHerní klíč:\n\nstartovní pole bude rozdělené do dvou stejně početných skupin\nprvní kolo je rozřazené náhodně\, všechna další budou systémem “sudý/lichý” podle dosavadního celkového bodového zisku\nhrají se 4 mise\, ve kterých získáváte body podle svého umístění\ncelkovým vítězem se stává hráč s nejvyšším součtem bodů\nv případě remízy bodů rozhodují o pořadí nejlepší dosažená umístění v jednotlivých hrách\, následně celkové nahrané skóre\n\n\nPo turnaji se účastníci mohou těšit na bonusové hry zdarma 
URL:https://www.aurorakladno.cz/udalost/2024-02-xpr-rumble-space-marines-duos/
LOCATION:Aurora Lasergame Kladno\, Čs. armády 3235\, Kladno\, 27201\, Česká republika
CATEGORIES:Profesionální hráči,Soutěže,Turnaje,Týmové turnaje
ATTACH;FMTTYPE=image/jpeg:https://www.aurorakladno.cz/wp-content/uploads/2023/08/20240225_event_xpr_2.jpg
ORGANIZER;CN="Aurora Lasergame Kladno":MAILTO:info@aurorakladno.cz
END:VEVENT
END:VCALENDAR